BEGIN:VCALENDAR
VERSION:2.0
PRODID:-//SPD Landtagsfraktion - ECPv5.14.1//NONSGML v1.0//EN
CALSCALE:GREGORIAN
METHOD:PUBLISH
X-WR-CALNAME:SPD Landtagsfraktion
X-ORIGINAL-URL:https://www.spd-fraktion-sh.de
X-WR-CALDESC:Veranstaltungen für SPD Landtagsfraktion
REFRESH-INTERVAL;VALUE=DURATION:PT1H
X-Robots-Tag:noindex
X-PUBLISHED-TTL:PT1H
BEGIN:VTIMEZONE
TZID:Europe/Berlin
BEGIN:DAYLIGHT
TZOFFSETFROM:+0100
TZOFFSETTO:+0200
TZNAME:CEST
DTSTART:20210328T010000
END:DAYLIGHT
BEGIN:STANDARD
TZOFFSETFROM:+0200
TZOFFSETTO:+0100
TZNAME:CET
DTSTART:20211031T010000
END:STANDARD
BEGIN:DAYLIGHT
TZOFFSETFROM:+0100
TZOFFSETTO:+0200
TZNAME:CEST
DTSTART:20220327T010000
END:DAYLIGHT
BEGIN:STANDARD
TZOFFSETFROM:+0200
TZOFFSETTO:+0100
TZNAME:CET
DTSTART:20221030T010000
END:STANDARD
END:VTIMEZONE
BEGIN:VEVENT
DTSTART;TZID=Europe/Berlin:20220427T100000
DTEND;TZID=Europe/Berlin:20220429T180000
DTSTAMP:20220515T045557
CREATED:20220427T070901Z
LAST-MODIFIED:20220427T070901Z
UID:9356-1651053600-1651255200@www.spd-fraktion-sh.de
SUMMARY:Landtagssitzung April
DESCRIPTION:  \n„Zum letzten Mal in dieser 19. Wahlperiode kommen die 73 Abgeordneten zu einer regulären Landtagstagung zusammen. Wie bereits im März steht erneut der seit Beginn des russischen Angriffs am 24. Februar anhaltende Krieg in der Ukraine im Mittelpunkt der Beratungen. Es geht dabei vor allem um die Aufnahme und Betreuung der Flüchtlinge\, wobei ein besonderer Blick den Kinder gilt. Unter anderem sollen Kitas die Gruppen vergrößern dürfen und Spielräume geschaffen werden. Zur Finanzierung der Flüchtlingshilfen will das Parlament zudem einen millionenschweren Notkredit freigeben.“ \n  \n🚩Aktueller Zeitplan\n  \n🚩Livestream\n  \nHier finden Sie ein paar unserer Anträge: \n\n\n\n\nNotkredite zur Abfederung der finanziellen Herausforderungen in Folge des Krieges in der Ukraine\nAntrag Ole-Christopher Plambeck (CDU)\, Beate Raudies (SPD)\, Lasse Petersdotter (BÜNDNIS 90/DIE GRÜNEN)\, Annabell Krämer (FDP)\, Lars Harms (SSW) 26.04.2022 Drucksache 19/3818 (neu 2. Fassung)\n\n\n\n\n\nAbsenkung der Corona-Notkredite zum Ausgleich des strukturellen Defizits\nAntrag Ole-Christopher Plambeck (CDU)\, Beate Raudies (SPD)\, Lasse Petersdotter (BÜNDNIS 90/DIE GRÜNEN)\, Annabell Krämer (FDP)\, Lars Harms (SSW) 26.04.2022 Drucksache 19/3819 (neu)\n\n\n\n\n\nSofortprogramm zur Unterstützung von Kindern und Jugendlichen bei psychosozialen Folgen von Pandemie und Krisen\nAntrag Tobias von der Heide (CDU)\, Martin Habersaat (SPD)\, Ines Strehlau (BÜNDNIS 90/DIE GRÜNEN)\, Anita Klahn (FDP)\, Jette Waldinger-Thiering (SSW) 21.04.2022 Drucksache 19/3817\n\n\n\n\n\nSchleswig-Holstein übernimmt Verantwortung!\nEntschließungsantrag Ole-Christopher Plambeck (CDU)\, Beate Raudies (SPD)\, Lasse Petersdotter (BÜNDNIS 90/DIE GRÜNEN)\, Annabell Krämer (FDP)\, Lars Harms (SSW) 21.04.2022 Drucksache 19/3820\n\n\n\n\n\nSchleswig-Holsteinisches Aktionsbündnis für bezahlbares Wohnen\, Bauen und Konversion\nAntrag Özlem Ünsal (SPD) 20.04.2022 Drucksache 19/3809\n\n\n\n\n\nEs ist Zeit für ein Tempolimit\nAntrag Kai Vogel (SPD) 20.04.2022 Drucksache 19/3810\n\n\n\n\n\nFachkräftesicherung im Handwerk – Klimaschutz wird vom Handwerk gemacht\nAntrag Kirsten Eickhoff-Weber (SPD)\, Thomas Hölck (SPD) 20.04.2022 Drucksache 19/3811\n\n\n\n\n\nGleichwertigkeit von Abschlüssen an den Schularten in Schleswig-Holstein\nAntrag Martin Habersaat (SPD)\, Jette Waldinger-Thiering (SSW) 20.04.2022 Drucksache 19/3812\n\n\n\n\n\nTeilhabe und Inklusion in Schleswig-Holstein vollständig umsetzen\nAntrag Wolfgang Baasch (SPD) 20.04.2022 Drucksache 19/3813\n\n\n\n\n\nzu „Entwurf eines Gesetzes zur Änderung des Kommunalabgabengesetzes des Landes Schleswig-Holstein“ (Drucksache 19/3527)\nÄnderungsantrag Beate Raudies (SPD) 19.04.2022 Drucksache 19/3803\n\n\n\n\n\nGute Arbeit und faire Löhne mit Tarifbindung in Schleswig-Holstein stärken\nAntrag Wolfgang Baasch (SPD)\, Thomas Hölck (SPD) 19.04.2022 Drucksache 19/3805\n\n\n\n\n\nDen Windausbau voranbringen! – Schleswig-Holsteins Beitrag zur Energiewende\nAntrag Thomas Hölck (SPD) 19.04.2022 Drucksache 19/3806
URL:https://www.spd-fraktion-sh.de/termin/landtagssitzung-april/
LOCATION:Landeshaus\, Düsternbrooker Weg 70\, Kiel\, Schleswig-Holstein\, 24105\, Deutschland
ATTACH;FMTTYPE=image/jpeg:https://www.spd-fraktion-sh.de/wp-content/uploads/sites/479/2022/02/b7e5c916-961f-4e64-b79c-59aa9602d0dd.jpeg
GEO:54.3350991;10.1513017
X-APPLE-STRUCTURED-LOCATION;VALUE=URI;X-ADDRESS=Landeshaus Düsternbrooker Weg 70 Kiel Schleswig-Holstein 24105 Deutschland;X-APPLE-RADIUS=500;X-TITLE=Düsternbrooker Weg 70:geo:10.1513017,54.3350991
END:VEVENT
BEGIN:VEVENT
DTSTART;TZID=Europe/Berlin:20220323T100000
DTEND;TZID=Europe/Berlin:20220325T180000
DTSTAMP:20220515T045557
CREATED:20220322T132233Z
LAST-MODIFIED:20220322T132233Z
UID:9264-1648029600-1648231200@www.spd-fraktion-sh.de
SUMMARY:Landtagssitzung März
DESCRIPTION:  \n„Der Ukraine-Krieg ist das dominierende Thema in dieser Zeit\, und folglich richtet auch der Landtag das Hauptaugenmerk in seiner März-Tagung auf diese Krise. Eingeleitet durch eine Regierungserklärung von Ministerpräsident Daniel Günther (CDU) wird das Plenum den ganzen ersten Sitzungstag am kommenden Mittwoch die aktuelle Situation diskutieren. Auf dem Tisch liegen hierzu knapp 15 Anträge.“ (LandtagSH) \n  \n🚩Aktueller Zeitplan\n  \n🚩Livestream\n  \nHier finden Sie ein paar unserer Anträge: \n\n\n\n\nEnergiesouveränität voranbringen\nAntrag Thomas Hölck (SPD) 11.03.2022 Drucksache 19/3735\n\n\n\n\n\nBericht der Landesregierung zur Situation der Geflüchteten aus der Ukraine in Schleswig-Holstein\nAntrag Serpil Midyatli (SPD) 11.03.2022 Drucksache 19/3737\n\n\n\n\n\nFamilien in Schleswig-Holstein in den Mittelpunkt stellen\nAntrag Katrin Fedrowitz (SPD)\, Birte Pauls (SPD)\, Özlem Ünsal (SPD) 11.03.2022 Drucksache 19/3738\n\n\n\n\n\nAnpassung der Vergütung für Lehraufträge an den schleswig-holsteinischen Hochschulen\nAntrag Dr. Heiner Dunckel (SPD)\, Jette Waldinger-Thiering (SSW) 09.03.2022 Drucksache 19/3703\n\n\n\n\n\nAbschlussbilanz: Schulische Inklusion in der 19. Legislaturperiode\nAntrag Martin Habersaat (SPD)\, Jette Waldinger-Thiering (SSW) 09.03.2022 Drucksache 19/3704\n\n\n\n\n\nErhalt\, Ausbau und Unterstützung von freigemeinnützigen und kommunalen Krankenhäusern und medizinischen Versorgungszentren\nAntrag Bernd Heinemann (SPD) 08.03.2022 Drucksache 19/3702
URL:https://www.spd-fraktion-sh.de/termin/landtagssitzung-maerz/
LOCATION:Landeshaus\, Düsternbrooker Weg 70\, Kiel\, Schleswig-Holstein\, 24105\, Deutschland
ATTACH;FMTTYPE=image/jpeg:https://www.spd-fraktion-sh.de/wp-content/uploads/sites/479/2022/02/b7e5c916-961f-4e64-b79c-59aa9602d0dd.jpeg
GEO:54.3350991;10.1513017
X-APPLE-STRUCTURED-LOCATION;VALUE=URI;X-ADDRESS=Landeshaus Düsternbrooker Weg 70 Kiel Schleswig-Holstein 24105 Deutschland;X-APPLE-RADIUS=500;X-TITLE=Düsternbrooker Weg 70:geo:10.1513017,54.3350991
END:VEVENT
BEGIN:VEVENT
DTSTART;TZID=Europe/Berlin:20220126T100000
DTEND;TZID=Europe/Berlin:20220127T180000
DTSTAMP:20220515T045557
CREATED:20220125T150020Z
LAST-MODIFIED:20220125T150214Z
UID:8965-1643191200-1643306400@www.spd-fraktion-sh.de
SUMMARY:Landtagssitzung Januar
DESCRIPTION:„Die Sieben-Tage-Inzidenz in Schleswig-Holstein erreicht täglich neue Höchstmarken und nähert sich landesweit der 1000er Marke. Zunehmend erkranken Kinder in Kitas und Schulen an COVID-19\, die hoch ansteckende Omikron-Variante sorgt für rasche Übertragungen. Vor diesem Hintergrund beginnt der Landtag seine reguläre\, zweitägige Januar-Tagung am Mittwoch (26.1.) erneut mit einer Corona-Debatte\, die an die Sondersitzung am 10. Januar anknüpft. Auf dem Tisch liegen mehrere Anträge zu Maßnahmen in Schule und Kindertagesstätten sowie zu Impfungen und zur Datenerfassung.“ (Landtag SH) \n🚩Aktueller Zeitplan \n🚩Livestream\nHier finden Sie ein paar unserer Anträge: \n  \n\n\n\n\nSchleswig-Holstein bekennt sich zum Atomausstieg\nAntrag Thomas Hölck (SPD)\, Christian Dirschauer (SSW) 19.01.2022 Drucksache 19/3550 (neu)\n\n\n\n\n\nSchulen\, Eltern und Kinder brauchen mehr Möglichkeiten gegen Omikron\nAntrag Martin Habersaat (SPD) 14.01.2022 Drucksache 19/3561\n\n\n\n\n\nDie Menschen mit steigenden Energiepreisen nicht allein lassen\nAntrag Thomas Hölck (SPD) 14.01.2022 Drucksache 19/3562\n\n\n\n\n\nGeschichte der Sinti und Roma in Schleswig-Holstein aufarbeiten\nAntrag Birte Pauls (SPD)\, Lars Harms (SSW) 13.01.2022 Drucksache 19/3558\n\n\n\n\n\nBund-Länder-Kooperation im Bildungsbereich stärken\nAntrag Martin Habersaat (SPD) 13.01.2022 Drucksache 19/3559\n\n\n\n\n\nFeststellung der Anwendbarkeit des § 28a Absatz 1 bis 6 Infektionsschutzgesetz für das Land Schleswig-Holstein gemäß § 28a Absatz 8 Satz 1 Infektionsschutzgesetz\nAntrag Tobias Koch (CDU)\, Eka von Kalben (BÜNDNIS 90/DIE GRÜNEN)\, Christopher Vogt (FDP)\, Serpil Midyatli (SPD)\, Jette Waldinger-Thiering (SSW) 10.01.2022 Drucksache 19/3536 (neu)\n\n\n\n\n\nDie Omikron-Variante entschlossen ausbremsen!\nAntrag Serpil Midyatli (SPD) 10.01.2022 Drucksache 19/3540\n\n\n\n\n\n 
URL:https://www.spd-fraktion-sh.de/termin/landtagssitzung-januar/
LOCATION:Landeshaus\, Düsternbrooker Weg 70\, Kiel\, Schleswig-Holstein\, 24105\, Deutschland
ATTACH;FMTTYPE=image/jpeg:https://www.spd-fraktion-sh.de/wp-content/uploads/sites/479/2021/11/6de3e5ee-275b-4530-8d7d-0450b2475213.jpeg
GEO:54.3350991;10.1513017
X-APPLE-STRUCTURED-LOCATION;VALUE=URI;X-ADDRESS=Landeshaus Düsternbrooker Weg 70 Kiel Schleswig-Holstein 24105 Deutschland;X-APPLE-RADIUS=500;X-TITLE=Düsternbrooker Weg 70:geo:10.1513017,54.3350991
END:VEVENT
BEGIN:VEVENT
DTSTART;TZID=Europe/Berlin:20211215T100000
DTEND;TZID=Europe/Berlin:20211217T180000
DTSTAMP:20220515T045558
CREATED:20211202T120854Z
LAST-MODIFIED:20211202T120854Z
UID:8806-1639562400-1639764000@www.spd-fraktion-sh.de
SUMMARY:Landtagssitzung Dezember
DESCRIPTION:  \n🚩Aktueller Zeitplan \n🚩Livestream\nHier finden Sie ein paar unserer Anträge: \n\n\n\n\nImpfturbo zünden – Corona-Impfungen zu den Menschen bringen und barrierefrei ermöglichen\nAntrag Birte Pauls (SPD)\, Wolfgang Baasch (SPD) 02.12.2021 Drucksache 19/3475\n\n\n\n\n\nWildwegeplan für Schleswig-Holstein\nAntrag Stefan Weber (SPD) 01.12.2021 Drucksache 19/3468\n\n\n\n\n\nZeit- und wirkungsgleiche Übernahme des Tarifabschlusses für Beamt*innen und Versorgungsempfänger*innen\nAntrag Beate Raudies (SPD) 30.11.2021 Drucksache 19/3461\n\n\n\n\n\nFachkräfteausbildung stärken – Zukunft des „Trave-Campus“\nAntrag Kirsten Eickhoff-Weber (SPD)\, Martin Habersaat (SPD)\, Thomas Hölck (SPD) 30.11.2021 Drucksache 19/3462
URL:https://www.spd-fraktion-sh.de/termin/landtagssitzung-dezember/
LOCATION:Landeshaus\, Düsternbrooker Weg 70\, Kiel\, Schleswig-Holstein\, 24105\, Deutschland
ATTACH;FMTTYPE=image/jpeg:https://www.spd-fraktion-sh.de/wp-content/uploads/sites/479/2019/02/51790152_405986123542995_1436618512712859648_n.jpg
GEO:54.3350991;10.1513017
X-APPLE-STRUCTURED-LOCATION;VALUE=URI;X-ADDRESS=Landeshaus Düsternbrooker Weg 70 Kiel Schleswig-Holstein 24105 Deutschland;X-APPLE-RADIUS=500;X-TITLE=Düsternbrooker Weg 70:geo:10.1513017,54.3350991
END:VEVENT
BEGIN:VEVENT
DTSTART;TZID=Europe/Berlin:20211124T100000
DTEND;TZID=Europe/Berlin:20211126T180000
DTSTAMP:20220515T045558
CREATED:20211123T084012Z
LAST-MODIFIED:20211123T084350Z
UID:8713-1637748000-1637949600@www.spd-fraktion-sh.de
SUMMARY:Landtagssitzung November
DESCRIPTION:„Seit Anbruch der kalten Jahreszeit schnellen die Corona-Infektionszahlen auch in Schleswig-Holstein wieder in die Höhe\, in der vergangenen Woche sogar auf Höchstwertwerte mit Sieben-Tage-Inzidenzwerten weit über 100. Auch wenn die Situation in den Kliniken im Land dank einer hohen Impfquote noch vergleichsweise gut aussieht\, hat der Kampf mit der Pandemie längst wieder Priorität im politischen Tagesgeschäft. Einen Tag vor dem vom neuen Bundestag beschlossenen Ablauf der „epidemischen Lage von nationaler von nationaler Tragweite“ am 25. November berät der Landtag die aktuelle Corona-Lage im Land und die von der Kieler Jamaika-Regierung eingeleiteten Schutzmaßnahmen. (Landtag SH) \n🚩Aktueller Zeitplan \n🚩Livestream\nHier finden Sie ein paar unserer Anträge: \n\n\n\n\nFachkräfte sichern – Moratorium für die Berufliche Bildung in Schleswig-Holstein\nAntrag Martin Habersaat (SPD)\, Kirsten Eickhoff-Weber (SPD)\, Thomas Hölck (SPD) 11.11.2021 Drucksache 19/3412\n\n\n\n\n\nEuropäisches Jahr der Jugend 2022 zur Chance für junge Menschen in Schleswig-Holstein und im gesamten Ostseeraum machen\nAntrag Regina Poersch (SPD)\, Jette Waldinger-Thiering (SSW) 10.11.2021 Drucksache 19/3404 (neu)\n\n\n\n\n\nAufrechterhaltung des öffentlichen Lebens! Perspektiven für den Pandemiewinter entwickeln\nAntrag Birte Pauls (SPD) 09.11.2021 Drucksache 19/3406\n\n\n\n\n\nInstitutionalisierte Interessenvertretung für Kinder und Jugendliche in den stationären Hilfen zur Erziehung\nAntrag Katja Rathje-Hoffmann (CDU)\, Eka von Kalben (BÜNDNIS 90/DIE GRÜNEN)\, Dennys Bornhöft (FDP)\, Wolfgang Baasch (SPD)\, Lars Harms (SSW) 08.11.2021 Drucksache 19/3331 (neu)\n\n\n\n\n\nAusbildungsoffensive im Berufsfeld Erziehung starten – PiA-Ausbildung unterstützen\nAntrag Birte Pauls (SPD) 02.11.2021 Drucksache 19/3382
URL:https://www.spd-fraktion-sh.de/termin/landtagssitzung-november-2/
LOCATION:Landeshaus\, Düsternbrooker Weg 70\, Kiel\, Schleswig-Holstein\, 24105\, Deutschland
ATTACH;FMTTYPE=image/jpeg:https://www.spd-fraktion-sh.de/wp-content/uploads/sites/479/2019/02/51790152_405986123542995_1436618512712859648_n.jpg
GEO:54.3350991;10.1513017
X-APPLE-STRUCTURED-LOCATION;VALUE=URI;X-ADDRESS=Landeshaus Düsternbrooker Weg 70 Kiel Schleswig-Holstein 24105 Deutschland;X-APPLE-RADIUS=500;X-TITLE=Düsternbrooker Weg 70:geo:10.1513017,54.3350991
END:VEVENT
BEGIN:VEVENT
DTSTART;TZID=Europe/Berlin:20210219T100000
DTEND;TZID=Europe/Berlin:20210219T150000
DTSTAMP:20220515T045558
CREATED:20210217T134322Z
LAST-MODIFIED:20210217T134322Z
UID:7212-1613728800-1613746800@www.spd-fraktion-sh.de
SUMMARY:Expert*innenanhörung  - #Corona
DESCRIPTION:„Der Landtag sucht für neue Entscheidungen in der Corona-Krise den Rat von Experten. Nach einer ersten großen Anhörung im November wird es in der kommenden Woche am Freitag\, 19. Februar\, eine zweite Runde für alle Abgeordneten geben. Darauf haben sich CDU\, SPD\, Grüne\, FDP und SSW verständigt. Unter anderem soll es um Perspektivpläne für das weitere Vorgehen in der Corona-Krise gehen. Die 73 Abgeordneten wollen sich ein Bild über Grundsatzfragen und Strategieempfehlungen machen. Welche Experten angehört werden\, steht derzeit noch nicht fest.“ (Landtag SH) \n  \n 
URL:https://www.spd-fraktion-sh.de/termin/expertinnenanhoerung-corona/
LOCATION:Landeshaus\, Düsternbrooker Weg 70\, Kiel\, Schleswig-Holstein\, 24105\, Deutschland
ATTACH;FMTTYPE=image/jpeg:https://www.spd-fraktion-sh.de/wp-content/uploads/sites/479/2021/02/img-2799.jpg
GEO:54.3350991;10.1513017
X-APPLE-STRUCTURED-LOCATION;VALUE=URI;X-ADDRESS=Landeshaus Düsternbrooker Weg 70 Kiel Schleswig-Holstein 24105 Deutschland;X-APPLE-RADIUS=500;X-TITLE=Düsternbrooker Weg 70:geo:10.1513017,54.3350991
END:VEVENT
END:VCALENDAR