BEGIN:VCALENDAR
VERSION:2.0
PRODID:-//SPD Landtagsfraktion - ECPv5.14.1//NONSGML v1.0//EN
CALSCALE:GREGORIAN
METHOD:PUBLISH
X-WR-CALNAME:SPD Landtagsfraktion
X-ORIGINAL-URL:https://www.spd-fraktion-sh.de
X-WR-CALDESC:Veranstaltungen für SPD Landtagsfraktion
REFRESH-INTERVAL;VALUE=DURATION:PT1H
X-Robots-Tag:noindex
X-PUBLISHED-TTL:PT1H
BEGIN:VTIMEZONE
TZID:Europe/Berlin
BEGIN:DAYLIGHT
TZOFFSETFROM:+0100
TZOFFSETTO:+0200
TZNAME:CEST
DTSTART:20190331T010000
END:DAYLIGHT
BEGIN:STANDARD
TZOFFSETFROM:+0200
TZOFFSETTO:+0100
TZNAME:CET
DTSTART:20191027T010000
END:STANDARD
BEGIN:DAYLIGHT
TZOFFSETFROM:+0100
TZOFFSETTO:+0200
TZNAME:CEST
DTSTART:20200329T010000
END:DAYLIGHT
BEGIN:STANDARD
TZOFFSETFROM:+0200
TZOFFSETTO:+0100
TZNAME:CET
DTSTART:20201025T010000
END:STANDARD
BEGIN:DAYLIGHT
TZOFFSETFROM:+0100
TZOFFSETTO:+0200
TZNAME:CEST
DTSTART:20210328T010000
END:DAYLIGHT
BEGIN:STANDARD
TZOFFSETFROM:+0200
TZOFFSETTO:+0100
TZNAME:CET
DTSTART:20211031T010000
END:STANDARD
END:VTIMEZONE
BEGIN:VEVENT
DTSTART;TZID=Europe/Berlin:20190928T100000
DTEND;TZID=Europe/Berlin:20190928T160000
DTSTAMP:20220515T051318
CREATED:20190911T075058Z
LAST-MODIFIED:20190911T085716Z
UID:4166-1569664800-1569686400@www.spd-fraktion-sh.de
SUMMARY:KlimaSchutzKonferenz mit Meeno Schrader
DESCRIPTION:Alle reden über Klimaschutz. Wir auch! \nEiniges haben wir schon auf den Weg gebracht. Wir setzen uns ein für einen sozialverträglichen Ausstieg aus der Kohlekraft und für die Einführung einer CO2-Abgabe. Wir wollen den Ausbau der Erneuerbaren Energien noch stärker fördern und streben eine dezentrale Umsetzung der Energiewende in Schleswig-Holstein an. Wir wollen die Verkehrs- und Wärmewende und eine Neuausrichtung der Landwirtschaft. \nWir wollen Plastikmüll weitestgehend einschränken. Artenschutz und der Erhalt der Biodiversität stehen oben auf unserer Agenda. Unser Antrag für die Aufnahme des Klimaschutzes in die Landesverfassung befindet sich gerade in der Anhörung. Im Frühjahr haben wir uns mit VertreterInnen der Fridays for Future Initiative ausgetauscht und diskutieren gerade Umsetzungsmöglichkeiten der Forderungen der SchülerInnen in der Fraktion. Jetzt möchten wir uns mit allen Akteuren in Schleswig-Holstein austauschen\, die sich mit der Frage des Klimaschutzes beschäftigen. Dabei steht die Frage im Vordergrund\, mit welchen Maßnahmen diese Ziele zu erreichen sind. Im Rahmen eines Worldcafés möchten wir Ihre Meinung dazu hören. \n📃 Ablauf \n➡️ 10:30 Uhr Come together bei Kaffee & Tee \n➡️ 11:00 Uhr Begrüßung und Einführung \n👉 Sandra Redmann \n👉 Thomas Hölck \n➡️ 11:15 Impuls: „Politische Aufgaben des Klimawandels“ \n👉 Dr. Nina Scheer\, MdB \n➡️ 11:35 Worldcafé zu den Themen: \n\nErneuerbare Energien\n👉 Thomas Hölck\, MdL\nMobilität\n👉 Stefan Weber\, MdL\nLandwirtschaft und Ernährungswirtschaft\n👉 Kirsten Eickhoff-Weber\, MdL\nArtenschutz\n👉 Sandra Redmann\, MdL\nMein persönlicher Beitrag im täglichen Leben\n👉Marc Timmer\, SPD Landesvorstand\n\n➡️12.45 Uhr Mittagessen \n➡️13.30 Uhr Vorstellung der Ergebnisse des Worldcafés \n➡️14.00 Uhr Vortrag: „Die Erde hat Fieber“\nDr. Meeno Schrader\, Diplom-Meteorologe\, Geschäftsführer WetterWelt GmbH anschließend Diskussion mit dem Publikum \nModeration: Sandra Redmann\, MdL \n➡️15.25 Uhr Schlusswort\nSerpil Midyatli\, MdL\, SPD Landesvorsitzende \nAusklang der Veranstaltung bei Kaffee\, Kuchen und Gesprächen \nHinweis:\nWir fotografieren während der Veranstaltung zum Zwecke der Veröffentlichung auf unserer Webseite und/oder unseren Social-Media-Kanälen auf Facebook und Twitter. Mit Ihrer Teilnahme an der Veranstaltung erklären Sie sich mit der Veröffentlichung von Fotos einverstanden\, auf denen auch Sie abgebildet sind.\nWenn Sie das nicht möchten\, teilen Sie das bitte unserem Fotografen oder unseren Mitarbeitern mit.
URL:https://www.spd-fraktion-sh.de/termin/klimaschutzkonferenz-mit-meeno-schrader/
LOCATION:Altes Stahlwerk\, Rendsburger Straße 81\, Neumünster\, Schleswig-Holstein\, 24537
ATTACH;FMTTYPE=image/png:https://www.spd-fraktion-sh.de/wp-content/uploads/sites/479/2019/09/klimaeinladung-1-e1568192226136.png
GEO:54.0832571;9.9784955
X-APPLE-STRUCTURED-LOCATION;VALUE=URI;X-ADDRESS=Altes Stahlwerk Rendsburger Straße 81 Neumünster Schleswig-Holstein 24537;X-APPLE-RADIUS=500;X-TITLE=Rendsburger Straße 81:geo:9.9784955,54.0832571
END:VEVENT
BEGIN:VEVENT
DTSTART;TZID=Europe/Berlin:20211120T100000
DTEND;TZID=Europe/Berlin:20211120T160000
DTSTAMP:20220515T051318
CREATED:20211026T070211Z
LAST-MODIFIED:20211118T144238Z
UID:8525-1637402400-1637424000@www.spd-fraktion-sh.de
SUMMARY:Klimakonferenz
DESCRIPTION:Für die Veranstaltung gilt 2G+ (Geimpft oder Genesen plus Test)\nSie haben die Möglichkeit\, sich in der Zeit von 8:00-9:30 beim DRK-Testzentrum an den Holstenhallen testen zu lassen \nLeider keine weitere Anmeldung mehr möglich!\nDas Thema Klimaschutz ist in aller Munde. Sogar bei der Bundestagswahl Ende September war er eines der entscheidenden Themen. Nicht erst durch die Vehemenz des aktuellen IPCC-Berichts ist uns allen klar: Wir müssen etwas tun\, es ist schon fast zu spät! \nIn Schleswig-Holstein schätzen wir uns glücklich\, dass wir exzellente Expertise auf diesem Gebiet haben.Wir freuen uns\, dass uns der Entwickler umweltrelevanter Software\, Jann Wendt\, einen Eindruck davon geben wird\, wie die Digitalisierung einen Beitrag zum Klimaschutz leisten kann. Er arbeitet an technischen Möglichkeiten\, um Geisternetze in unseren Meeren zu finden. Jann Wendt ist aber auch ein entscheidender Kopf\, wenn es um die Munitionsaltlasen in Nord- und Ostsee geht. Wir sind gespannt auf seine Arbeit\, die so wichtig ist und noch stärker in die öffentliche Wahrnehmung rücken sollte. \nAber wenn man in Schleswig-Holstein über das Klima und über das Wetter spricht\, dann darf einer nicht fehlen: Meeno Schrader. Wir kennen und schätzen ihn als klugen Meteorologen. Er betont schon seit Jahren\, dass der Klimawandel keine kurzzeitige Laune der Natur ist und ruft zum gesellschaftlichen und politischen Umdenken auf. Auch wir vor Ort haben eine Verantwortung und können durch unser Konsumverhalten etwas bewirken. \nWir freuen uns auf seinen fachkundigen Vortrag! Im Anschluss möchten wir gerne mit Meeno Schrader\, dem SPD-Spitzenkandidaten zur Landtagswahl Thomas Losse-Müller und Ihnen diskutieren. Was machen Sie gegen den Klimawandel und was erwarten Sie von der Politik? Wir freuen uns\, wenn Sie dabei sind und mit uns ins Gespräch kommen! \nAblauf\n▶ Begrüßung und Moderation\nSandra Redmann\, umweltpolitische Sprecherin Thomas Hölck\, energiepolitischer Sprecher \n▶ Input\nDelara Burkhardt\, Mitgleid des Europäischen Parlaments \n▶Klimaretter Digitalisierung?\nJann Wendt\, Digital Entrepreneur \n  \n▶▶Einladung zum gemeinsamen Mittagessen\n\n  \n▶Die Erde brennt\nMeeno Schrader\, Diplom-Meteorologe\, Geschäftsführer WetterWelt GmbH \n▶Diskussion\nThomas Losse-Müller\, SPD-Spitzenkandidat zur Landtagswahl 2022 \n  \n  \nDas war beim 1. Mal los:\nGroße Klimaschutzkonferenz in Neumünster mit Meeno Schrader
URL:https://www.spd-fraktion-sh.de/termin/klimakonferenz/
LOCATION:Altes Stahlwerk\, Rendsburger Straße 81\, Neumünster\, Schleswig-Holstein\, 24537
ATTACH;FMTTYPE=image/png:https://www.spd-fraktion-sh.de/wp-content/uploads/sites/479/2019/09/klimaeinladung-1-e1568192226136.png
GEO:54.0832571;9.9784955
X-APPLE-STRUCTURED-LOCATION;VALUE=URI;X-ADDRESS=Altes Stahlwerk Rendsburger Straße 81 Neumünster Schleswig-Holstein 24537;X-APPLE-RADIUS=500;X-TITLE=Rendsburger Straße 81:geo:9.9784955,54.0832571
END:VEVENT
END:VCALENDAR