BEGIN:VCALENDAR
VERSION:2.0
PRODID:-//SPD Landtagsfraktion - ECPv5.14.1//NONSGML v1.0//EN
CALSCALE:GREGORIAN
METHOD:PUBLISH
X-WR-CALNAME:SPD Landtagsfraktion
X-ORIGINAL-URL:https://www.spd-fraktion-sh.de
X-WR-CALDESC:Veranstaltungen für SPD Landtagsfraktion
REFRESH-INTERVAL;VALUE=DURATION:PT1H
X-Robots-Tag:noindex
X-PUBLISHED-TTL:PT1H
BEGIN:VTIMEZONE
TZID:Europe/Berlin
BEGIN:DAYLIGHT
TZOFFSETFROM:+0100
TZOFFSETTO:+0200
TZNAME:CEST
DTSTART:20200329T010000
END:DAYLIGHT
BEGIN:STANDARD
TZOFFSETFROM:+0200
TZOFFSETTO:+0100
TZNAME:CET
DTSTART:20201025T010000
END:STANDARD
END:VTIMEZONE
BEGIN:VEVENT
DTSTART;TZID=Europe/Berlin:20200226T180000
DTEND;TZID=Europe/Berlin:20200226T203000
DTSTAMP:20220515T053820
CREATED:20200212T081625Z
LAST-MODIFIED:20200212T081625Z
UID:5006-1582740000-1582749000@www.spd-fraktion-sh.de
SUMMARY:Munitionsaltlasten in der Ostsee – alles im Griff?
DESCRIPTION:  \n„Nach offiziellen Schätzungen liegen in deutschen Nord- und Ostseegewässern mehr als 1\,5 Mio. Tonnen Munition aus den Weltkriegen\, in der Ostsee sind es 300.000 Tonnen.“ \nSandra Redmann \n\nSie stellen eine Gefahr für Mensch und Meeresumwelt dar. Fischer sind durch Beifang gefährdet\, Spaziergänger durch Funde\, die an den Strand gespült werden. Je länger die Munition in den Meeresgewässern liegt\, desto größer wird die Gefahr. Die Munition wird mit der Zeit porös\, droht leichter zu explodieren\, gefährliche Stoffe treten aus. Forscher konnten nachweisen\, dass sich Giftstoffe aus der Munition in Muscheln und Fischen anreichern. \nDamit landen sie auch auf unseren Tellern. Auf Bundes-\, EU- und internationaler Ebene gibt es bereits seit längerem Aktivitäten und Übereinkommen zum Schutz der Meeresumwelt\, die sich mit dem Thema „Munition im Meer“ befassen. 2017 haben die Vereinten Nationen eine Resolution verabschiedet. Auch im Rahmen der Ostseekooperation wird die Frage aufgegriffen und bearbeitet. Ein 1997 eingerichteter Bund-Länder-Ausschuss hat die belasteten Flächen kartiert. Jetzt müssen schnellstmöglich Konzepte für die Bergung der Munition erarbeitet und umgesetzt werden. \n\nWelche Gefahren lauern durch die Altmunition tatsächlich auf unserem Meeresgrund?\nIst eine umweltschonende Bergung möglich und welche Maßnahmen sind dafür erforderlich?\nHaben wir wirklich alles im Griff?\n\nÜber diese Fragen möchten wir Sie informieren und uns mit Ihnen austauschen. \n  \n\n📃 Ablauf \n➡️ 18:00 Einlass\, come-together und Imbiss \n  \n➡️18.30 Uhr Begrüßung \n👉 Sandra Redmann\, MdL\, 👉 Thomas Rother\, MdL \n  \n\n➡️18.35 Uhr Grußwort\n👉 Sabine Haltern\, SPD-Ortsverein Travemünde \n\n➡️18.40 Uhr\n„Ökologische und gesundheitliche Gefahren durch Kriegsmunition in der Ostsee“\n👉 Prof. Dr. Edmund Maser\, Institut für Toxikologie der CAU Kiel \n\n➡️19.00 Uhr\n„Munition in der Ostsee und was wir über die Lübecker Bucht wissen“\n👉 Claus Böttcher\, Sonderstelle Munition im Meer des Ministeriums für Energiewende\, Landwirtschaft\, Umwelt\, Natur und Digitalisierung (MELUND) \n\n➡️19.10 Uhr\n„Naturschutz und Minenräumung – (K)ein Widerspruch?“\n👉 Dagmar Struß\, Naturschutzbund (NABU) Schleswig-Holstein \n\n➡️19.20 Uhr – 20.30 Uhr Podiumsdiskussion\n👉  Gabriele Hiller Ohm\, MdB Bundestagsabgeordnete der SPD-Fraktion\, Berlin\n👉  Prof. Dr. Edmund Maser\, Institut für Toxikologie der CAU Kiel\n👉  Claus Böttcher\, MELUND (Ministerium für Energiewende\, Landwirtschaft..)\n👉  Dagmar Struß\, NABU Schleswig-Holstein\n👉  Uwe Kirchhoff\, Kurdirektor Travemünde \n\n➡️Schlusswort\n👉 Thomas Rother\, MdL \n  \n\nHinweis:\nWir fotografieren während der Veranstaltung zum Zwecke der Veröffentlichung auf unserer Webseite und/oder unseren Social-Media-Kanälen auf Facebook und Twitter. Mit Ihrer Teilnahme an der Veranstaltung erklären Sie sich mit der Veröffentlichung von Fotos einverstanden\, auf denen auch Sie abgebildet sind.\nWenn Sie das nicht möchten\, teilen Sie das bitte unserem Fotografen oder unseren Mitarbeitern mit.
URL:https://www.spd-fraktion-sh.de/termin/munitionsaltlasten-in-der-ostsee-alles-im-griff/
LOCATION:Hotel aROSA\, Außenallee 10\, Travemünde\, Schleswig-Holstein\, 23570\, Deutschland
ATTACH;FMTTYPE=image/png:https://www.spd-fraktion-sh.de/wp-content/uploads/sites/479/2020/02/wassermine.png
GEO:53.9629974;10.8777397
X-APPLE-STRUCTURED-LOCATION;VALUE=URI;X-ADDRESS=Hotel aROSA Außenallee 10 Travemünde Schleswig-Holstein 23570 Deutschland;X-APPLE-RADIUS=500;X-TITLE=Außenallee 10:geo:10.8777397,53.9629974
END:VEVENT
END:VCALENDAR