BEGIN:VCALENDAR
VERSION:2.0
PRODID:-//SPD Landtagsfraktion - ECPv5.14.1//NONSGML v1.0//EN
CALSCALE:GREGORIAN
METHOD:PUBLISH
X-WR-CALNAME:SPD Landtagsfraktion
X-ORIGINAL-URL:https://www.spd-fraktion-sh.de
X-WR-CALDESC:Veranstaltungen für SPD Landtagsfraktion
REFRESH-INTERVAL;VALUE=DURATION:PT1H
X-Robots-Tag:noindex
X-PUBLISHED-TTL:PT1H
BEGIN:VTIMEZONE
TZID:Europe/Berlin
BEGIN:DAYLIGHT
TZOFFSETFROM:+0100
TZOFFSETTO:+0200
TZNAME:CEST
DTSTART:20220327T010000
END:DAYLIGHT
BEGIN:STANDARD
TZOFFSETFROM:+0200
TZOFFSETTO:+0100
TZNAME:CET
DTSTART:20221030T010000
END:STANDARD
END:VTIMEZONE
BEGIN:VEVENT
DTSTART;TZID=Europe/Berlin:20220607T100000
DTEND;TZID=Europe/Berlin:20220607T180000
DTSTAMP:20220515T022755
CREATED:20220511T082952Z
LAST-MODIFIED:20220511T082952Z
UID:9432-1654596000-1654624800@www.spd-fraktion-sh.de
SUMMARY:Landtagssitzung Juni (1)
DESCRIPTION:🚩Aktueller Zeitplan\n  \n🚩Livestream\n 
URL:https://www.spd-fraktion-sh.de/termin/landtagssitzung-juni-1/
LOCATION:Landeshaus\, Düsternbrooker Weg 70\, Kiel\, Schleswig-Holstein\, 24105\, Deutschland
ATTACH;FMTTYPE=image/jpeg:https://www.spd-fraktion-sh.de/wp-content/uploads/sites/479/2022/02/b7e5c916-961f-4e64-b79c-59aa9602d0dd.jpeg
GEO:54.3350991;10.1513017
X-APPLE-STRUCTURED-LOCATION;VALUE=URI;X-ADDRESS=Landeshaus Düsternbrooker Weg 70 Kiel Schleswig-Holstein 24105 Deutschland;X-APPLE-RADIUS=500;X-TITLE=Düsternbrooker Weg 70:geo:10.1513017,54.3350991
END:VEVENT
BEGIN:VEVENT
DTSTART;TZID=Europe/Berlin:20220629T080000
DTEND;TZID=Europe/Berlin:20220701T170000
DTSTAMP:20220515T022755
CREATED:20220511T083005Z
LAST-MODIFIED:20220511T083005Z
UID:9433-1656489600-1656694800@www.spd-fraktion-sh.de
SUMMARY:Landtagssitzung Juni (2)
DESCRIPTION:🚩Aktueller Zeitplan\n  \n🚩Livestream\n 
URL:https://www.spd-fraktion-sh.de/termin/landtagssitzung-juni-2/
LOCATION:Landeshaus\, Düsternbrooker Weg 70\, Kiel\, Schleswig-Holstein\, 24105\, Deutschland
ATTACH;FMTTYPE=image/jpeg:https://www.spd-fraktion-sh.de/wp-content/uploads/sites/479/2022/02/b7e5c916-961f-4e64-b79c-59aa9602d0dd.jpeg
GEO:54.3350991;10.1513017
X-APPLE-STRUCTURED-LOCATION;VALUE=URI;X-ADDRESS=Landeshaus Düsternbrooker Weg 70 Kiel Schleswig-Holstein 24105 Deutschland;X-APPLE-RADIUS=500;X-TITLE=Düsternbrooker Weg 70:geo:10.1513017,54.3350991
END:VEVENT
BEGIN:VEVENT
DTSTART;TZID=Europe/Berlin:20220831T080000
DTEND;TZID=Europe/Berlin:20220902T170000
DTSTAMP:20220515T022755
CREATED:20220511T083014Z
LAST-MODIFIED:20220511T083154Z
UID:9434-1661932800-1662138000@www.spd-fraktion-sh.de
SUMMARY:Landtagssitzung August
DESCRIPTION:🚩Aktueller Zeitplan\n  \n🚩Livestream\n 
URL:https://www.spd-fraktion-sh.de/termin/landtagssitzung-august/
LOCATION:Landeshaus\, Düsternbrooker Weg 70\, Kiel\, Schleswig-Holstein\, 24105\, Deutschland
ATTACH;FMTTYPE=image/jpeg:https://www.spd-fraktion-sh.de/wp-content/uploads/sites/479/2022/02/b7e5c916-961f-4e64-b79c-59aa9602d0dd.jpeg
GEO:54.3350991;10.1513017
X-APPLE-STRUCTURED-LOCATION;VALUE=URI;X-ADDRESS=Landeshaus Düsternbrooker Weg 70 Kiel Schleswig-Holstein 24105 Deutschland;X-APPLE-RADIUS=500;X-TITLE=Düsternbrooker Weg 70:geo:10.1513017,54.3350991
END:VEVENT
BEGIN:VEVENT
DTSTART;TZID=Europe/Berlin:20220928T080000
DTEND;TZID=Europe/Berlin:20220930T170000
DTSTAMP:20220515T022755
CREATED:20220511T083020Z
LAST-MODIFIED:20220511T083202Z
UID:9435-1664352000-1664557200@www.spd-fraktion-sh.de
SUMMARY:Landtagssitzung September
DESCRIPTION:🚩Aktueller Zeitplan\n  \n🚩Livestream\n 
URL:https://www.spd-fraktion-sh.de/termin/landtagssitzung-september/
LOCATION:Landeshaus\, Düsternbrooker Weg 70\, Kiel\, Schleswig-Holstein\, 24105\, Deutschland
ATTACH;FMTTYPE=image/jpeg:https://www.spd-fraktion-sh.de/wp-content/uploads/sites/479/2022/02/b7e5c916-961f-4e64-b79c-59aa9602d0dd.jpeg
GEO:54.3350991;10.1513017
X-APPLE-STRUCTURED-LOCATION;VALUE=URI;X-ADDRESS=Landeshaus Düsternbrooker Weg 70 Kiel Schleswig-Holstein 24105 Deutschland;X-APPLE-RADIUS=500;X-TITLE=Düsternbrooker Weg 70:geo:10.1513017,54.3350991
END:VEVENT
BEGIN:VEVENT
DTSTART;TZID=Europe/Berlin:20221123T080000
DTEND;TZID=Europe/Berlin:20221125T170000
DTSTAMP:20220515T022755
CREATED:20220511T083025Z
LAST-MODIFIED:20220511T083210Z
UID:9436-1669190400-1669395600@www.spd-fraktion-sh.de
SUMMARY:Landtagssitzung November
DESCRIPTION:🚩Aktueller Zeitplan\n  \n🚩Livestream\n 
URL:https://www.spd-fraktion-sh.de/termin/landtagssitzung-november/
LOCATION:Landeshaus\, Düsternbrooker Weg 70\, Kiel\, Schleswig-Holstein\, 24105\, Deutschland
ATTACH;FMTTYPE=image/jpeg:https://www.spd-fraktion-sh.de/wp-content/uploads/sites/479/2022/02/b7e5c916-961f-4e64-b79c-59aa9602d0dd.jpeg
GEO:54.3350991;10.1513017
X-APPLE-STRUCTURED-LOCATION;VALUE=URI;X-ADDRESS=Landeshaus Düsternbrooker Weg 70 Kiel Schleswig-Holstein 24105 Deutschland;X-APPLE-RADIUS=500;X-TITLE=Düsternbrooker Weg 70:geo:10.1513017,54.3350991
END:VEVENT
BEGIN:VEVENT
DTSTART;TZID=Europe/Berlin:20221214T080000
DTEND;TZID=Europe/Berlin:20221216T170000
DTSTAMP:20220515T022755
CREATED:20220511T083029Z
LAST-MODIFIED:20220511T083217Z
UID:9437-1671004800-1671210000@www.spd-fraktion-sh.de
SUMMARY:Landtagssitzung Dezember
DESCRIPTION:🚩Aktueller Zeitplan\n  \n🚩Livestream\n 
URL:https://www.spd-fraktion-sh.de/termin/landtagssitzung-dezember-2/
LOCATION:Landeshaus\, Düsternbrooker Weg 70\, Kiel\, Schleswig-Holstein\, 24105\, Deutschland
ATTACH;FMTTYPE=image/jpeg:https://www.spd-fraktion-sh.de/wp-content/uploads/sites/479/2022/02/b7e5c916-961f-4e64-b79c-59aa9602d0dd.jpeg
GEO:54.3350991;10.1513017
X-APPLE-STRUCTURED-LOCATION;VALUE=URI;X-ADDRESS=Landeshaus Düsternbrooker Weg 70 Kiel Schleswig-Holstein 24105 Deutschland;X-APPLE-RADIUS=500;X-TITLE=Düsternbrooker Weg 70:geo:10.1513017,54.3350991
END:VEVENT
END:VCALENDAR