BEGIN:VCALENDAR
VERSION:2.0
PRODID:-//SPD Landtagsfraktion - ECPv5.14.1//NONSGML v1.0//EN
CALSCALE:GREGORIAN
METHOD:PUBLISH
X-WR-CALNAME:SPD Landtagsfraktion
X-ORIGINAL-URL:https://www.spd-fraktion-sh.de
X-WR-CALDESC:Veranstaltungen für SPD Landtagsfraktion
REFRESH-INTERVAL;VALUE=DURATION:PT1H
X-Robots-Tag:noindex
X-PUBLISHED-TTL:PT1H
BEGIN:VTIMEZONE
TZID:Europe/Berlin
BEGIN:DAYLIGHT
TZOFFSETFROM:+0100
TZOFFSETTO:+0200
TZNAME:CEST
DTSTART:20190331T010000
END:DAYLIGHT
BEGIN:STANDARD
TZOFFSETFROM:+0200
TZOFFSETTO:+0100
TZNAME:CET
DTSTART:20191027T010000
END:STANDARD
END:VTIMEZONE
BEGIN:VEVENT
DTSTART;TZID=Europe/Berlin:20190902T183000
DTEND;TZID=Europe/Berlin:20190902T210000
DTSTAMP:20220515T053750
CREATED:20190820T070522Z
LAST-MODIFIED:20190826T062844Z
UID:3939-1567449000-1567458000@www.spd-fraktion-sh.de
SUMMARY:Wohnraum stapeln oder Lebensraum gestalten?
DESCRIPTION:„Wohnen ist Teil der Daseinsvorsorge und kein Luxus.“ Özlem Ünsal\n\n\n\n \n\n\nIn Zeiten steigender Mieten und hoher Baupreise wird es aber zunehmend zu einer Herausforderung\, ausreichend bezahlbaren Wohnraum für alle Menschen in unseren Städten und Gemeinden zu schaffen. Allein in Lübeck fehlen derzeit tausende bezahlbare Wohnungen.\n Um die Versorgung mit Wohnraum in den Städten und Gemeinden des Landes zu gewährleisten\, bedarf es daher einer aktiven und flexiblen Förderpolitik\, eines klaren gesetzlichen Rahmens\, innovativer Konzepte und neuer Wege für bezahlbares Wohnen in den Quartieren. Alle beteiligten Akteure müssen dazu an einem Strang ziehen. Die wachsende Wohnungsknappheit kann vorrangig nur durch den Neubau von Wohnungen wirksam bekämpft werden. \nEs müssen landesweit individuelle Lösungen für den Wohnungsmarkt gefunden\, Bauland zur Verfügung gestellt und auch der kommunale Wohnungsbau weiter gestärkt werden. Eine drohende soziale Spaltung in Regionen mit angespanntem Wohnungsmarkt muss verhindert werden. Städtebau\, Quartiersentwicklung und\, Wohnungsbau müssen stets zusammen gedacht und weiter entwickelt werden. Unsere Devise lautet deshalb: \n\n\n \n\n\n\nNicht nur „Wohnraum stapeln- sondern Lebensraum gestalten!“\n\n\n\n \n\n\n\nDoch wie kann das gelingen❓ \nWie kann in unseren Regionen des Landes dauerhaft bezahlbarer Wohnraum für alle Menschen geschaffen werden❓\n\n\n\n \n\n\nDarüber möchten wir mit Ihnen und unseren Gästen diskutieren und Wege zur Lösung aufzeigen❗️\n\n\n\n\nAblauf⬇️\n\n👉18:00 Uhr\n➡️Einlass\n👉18.30 Uhr\n➡️Begrüßung Peter Petereit\, Vorsitzender der SPD-Bürgerschaftsfraktion Lübeck\n👉18:35 Uhr\n➡️Einführung in die Regionalkonferenzen\, Özlem Ünsal\, wohnungsbaupolitische Sprecherin der SPD Landtagsfraktion SH\n➡️„Bremse Baukosten für bezahlbares Wohnen?“\, Dietmar Walberg\, Geschäftsführer der Arbeitsgemeinschaft für zeitgemäßes Bauen Schleswig-Holstein\n➡️„Mietenmonitoring in den Regionen“\, Hilmar Müller-Teut – Analyst Wohnungsmarkt bei der Investitionsbank Schleswig-Holstein\n➡️„Angebote und Ziele der WohnraumförderungSchleswig-Holstein“\, Dr. Maik Krüger\, Innenministerium\n👉Podiumsgäste:\n\nJan Lindenau\, Bürgermeister der Hansestadt Lübeck\nDr. Matthias Rasch\, Wohnungsbaugesellschaft Trave\nDietmar Walberg\, ARGE SH\nThomas Klempau\, Mieterverein Lübeck\n\n  \n  \n\n❗️❗️ Hinweis:\n\n\nWir fotografieren während der Veranstaltung zum Zwecke der Veröffentlichung auf unserer Webseite und/oder unseren Social-Media-Kanälen. Mit Ihrer Teilnahme an der Veranstaltung erklären Sie sich mit der Veröffentlichung von Fotos einverstanden\, auf denen auch Sie abgebildet sind. Wenn Sie das nicht möchten\, teilen Sie das bitte unserem Fotografen oder unseren Mitarbeitern mit.
URL:https://www.spd-fraktion-sh.de/termin/wohraum-stapeln-oder-lebensraum-gestalten/
LOCATION:Rathaus Lübeck\, Breite Straße 62\, Lübeck\, 23552\, Deutschland
ATTACH;FMTTYPE=image/jpeg:https://www.spd-fraktion-sh.de/wp-content/uploads/sites/479/2019/08/site-285645_1920.jpg
GEO:53.8676977;10.6859329
X-APPLE-STRUCTURED-LOCATION;VALUE=URI;X-ADDRESS=Rathaus Lübeck Breite Straße 62 Lübeck 23552 Deutschland;X-APPLE-RADIUS=500;X-TITLE=Breite Straße 62:geo:10.6859329,53.8676977
END:VEVENT
END:VCALENDAR