BEGIN:VCALENDAR
VERSION:2.0
PRODID:-//SPD Landtagsfraktion - ECPv5.14.1//NONSGML v1.0//EN
CALSCALE:GREGORIAN
METHOD:PUBLISH
X-WR-CALNAME:SPD Landtagsfraktion
X-ORIGINAL-URL:https://www.spd-fraktion-sh.de
X-WR-CALDESC:Veranstaltungen für SPD Landtagsfraktion
REFRESH-INTERVAL;VALUE=DURATION:PT1H
X-Robots-Tag:noindex
X-PUBLISHED-TTL:PT1H
BEGIN:VTIMEZONE
TZID:Europe/Berlin
BEGIN:DAYLIGHT
TZOFFSETFROM:+0100
TZOFFSETTO:+0200
TZNAME:CEST
DTSTART:20190331T010000
END:DAYLIGHT
BEGIN:STANDARD
TZOFFSETFROM:+0200
TZOFFSETTO:+0100
TZNAME:CET
DTSTART:20191027T010000
END:STANDARD
END:VTIMEZONE
BEGIN:VEVENT
DTSTART;TZID=Europe/Berlin:20190322T140000
DTEND;TZID=Europe/Berlin:20190322T160000
DTSTAMP:20220515T053747
CREATED:20190225T132021Z
LAST-MODIFIED:20190305T112155Z
UID:2889-1553263200-1553270400@www.spd-fraktion-sh.de
SUMMARY:#FridaysForFuture - Diskussion im Landeshaus zum Thema Klimaschutz
DESCRIPTION:Liebe Schülerinnen und Schüler\, \nviele von Euch engagieren sich aktiv im Rahmen von #FridaysForFuture oder anderen Gelegenheiten für den Schutz unseres Klimas. Euren Einsatz dafür begrüßen wir ausdrücklich. Und wir wollen Euch sagen: Euer Zeichen ist angekommen! Auch die SPD-Landtagsfraktion sieht es als Aufgabe des Staates und der Gesellschaft\, Maßnahmen zum Schutz des Klimas zu ergreifen und die Verantwortung für die Zukunft künftiger Generationen zu übernehmen. Wir sind davon überzeugt\, dass die Begrenzung der Erderwärmung dringend geboten ist\, um die Lebensgrundlagen der Menschen zu bewahren. Denn Klimaschutz leistet auch einen entscheidenden Beitrag für das friedliche Zusammenleben der Völker. \nDaher hat die SPD-Landtagsfraktion beschlossen\, Klimaschutz als Staatsziel in die Landesverfassung aufzunehmen und einen entsprechenden Antrag in den Landtag eingebracht\, der im März im Landtag diskutiert wird. \nWir möchten mit Euch ins Gespräch darüber kommen\, wie es gelingen kann\, eine Welt zu hinterlassen\, die auch für Eure Kinder und Enkel noch lebenswert ist. Wie es weitergehen kann und muss mit der Klimapolitik\, was für Euch wichtig ist und welche Unterstützung Ihr Euch wünscht\, möchten wir gern in einem Gespräch in lockerer Atmosphäre von Euch erfahren. Dafür laden wir Euch ein am: \nFreitag\, 22. März 2019\, 14 Uhr in das Landeshaus\,\nDüsternbrooker Weg 70\, 24105 Kiel\, Raum 342. \nWir freuen uns\, mit Euch in den Austausch zu treten und Eure Forderungen gemeinsam zu diskutieren. \nFür den Einlass in das Landeshaus bringt bitte diese Einladung und Euren Ausweis mit. \n 
URL:https://www.spd-fraktion-sh.de/termin/fridaysforfuture-diskussion-im-landtag-zum-thema-klimaschutz/
LOCATION:SPD-Fraktion Schleswig-Holstein\, Düsternbrooker Weg 70\, Kiel\, Schleswig-Holstein\, 24105\, Deutschland
ATTACH;FMTTYPE=image/png:https://www.spd-fraktion-sh.de/wp-content/uploads/sites/479/2019/02/neu2-e1551100536898.png
GEO:54.3350991;10.1513017
X-APPLE-STRUCTURED-LOCATION;VALUE=URI;X-ADDRESS=SPD-Fraktion Schleswig-Holstein Düsternbrooker Weg 70 Kiel Schleswig-Holstein 24105 Deutschland;X-APPLE-RADIUS=500;X-TITLE=Düsternbrooker Weg 70:geo:10.1513017,54.3350991
END:VEVENT
BEGIN:VEVENT
DTSTART;TZID=Europe/Berlin:20190516T183000
DTEND;TZID=Europe/Berlin:20190516T210000
DTSTAMP:20220515T053747
CREATED:20190429T060032Z
LAST-MODIFIED:20190502T060331Z
UID:3315-1558031400-1558040400@www.spd-fraktion-sh.de
SUMMARY:Wie sehr lieben wir Plastik?
DESCRIPTION:Plastik bestimmt unseren Alltag\, es ist\, wenn wir darüber nachdenken\, eigentlich überall. Sogar unsere Kleidung besteht heute zum größten Teil aus Plastik. Es ist in vielen Kosmetika enthalten und gelangt so in den Wasserkreislauf. Auch der Abrieb von Autoreifen führt zum Eintrag von Mikroplastikteilchen in die Umwelt. Gleichzeitig wird Plastikmüll immer mehr zum Problem. Mehr als 8 Mio. Tonnen Plastik landen jährlich in unseren Meeren\, mit fatalen Folgen für die Meeresumwelt\, die Tiere und letztlich auch für uns Menschen. \n  \n„Die Vermeidung von Plastikmüll wird zurzeit überall diskutiert. Aber wie stark setzen wir das wirklich schon um und wie sehr lieben wir eigentlich Plastik immer noch?“ \nSandra Redmann \n\n  \nIn dieser Frage sind alle Ebenen der Politik gefragt. Die EU hat mit ihrem Verbot einer Reihe von Einwegplastikartikeln einen ersten Schritt in die richtige Richtung gemacht. Weitere müssen aus unserer Sicht folgen. \n  \n„Was sind die notwendigen Schritte auf europäischer Ebene? Was kann und muss Politik konkret in Schleswig-Holstein umsetzen? Und was kann jeder Einzelne von uns tun\, um zukünftig Plastikmüll zu vermeiden?“ \nStefan Weber \n\nWir laden Sie herzlich ein\, über diese Fragen mit uns zu diskutieren und freuen uns auf Ihre Beiträge. \n  \nNutzen Sie das Anmeldeformular:  \n  \n⏰Ablauf\n👉18.30 Uhr Begrüßung\nSandra Redmann\, MdL \n👉18.35 Uhr Einführung\nStefan Weber\, MdL \n👉18.45 Uhr Impuls I: Initiativen auf europäischer Ebene\nEnrico Kreft\nSPD-Kandidat für das Europaparlament \n👉18.55 Uhr Impuls II: Die Sicht des Naturschutzes\nIngrid Boitin\nGreenpeace Lübeck \n👉19.05 Uhr Podium und Diskussion mit dem Publikum \n\n\n\nIngrid Boitin\nKathrin Lang\nZero Waste Kiel e.V.\nEnrico Kreft\nDr. Mark Lenz\nGEOMAR\, Helmholtz-Zentrum für Ozeanforschung\, Wissenschaftlicher Koordinator GAME Programm\nStefan Weber\, MdL\nModeration – Sandra Redmann\, MdL\n\n\n\n👉20.25 Uhr Schlusswort\nStefan Weber\, MdL \n  \n🥑🥨🥕Anschließend kleiner Imbiss und Gespräche \n  \n  \n❗️❗️ Hinweis:\nWir fotografieren während der Veranstaltung zum Zwecke der Veröffentlichung auf unserer Webseite und/oder unseren Social-Media-Kanälen. Mit Ihrer Teilnahme an der Veranstaltung erklären Sie sich mit der Veröffentlichung von Fotos einverstanden\, auf denen auch Sie abgebildet sind. Wenn Sie das nicht möchten\, teilen Sie das bitte unserem Fotografen oder unseren Mitarbeitern mit.
URL:https://www.spd-fraktion-sh.de/termin/wie-sehr-lieben-wir-plastik/
LOCATION:SPD-Fraktion Schleswig-Holstein\, Düsternbrooker Weg 70\, Kiel\, Schleswig-Holstein\, 24105\, Deutschland
ATTACH;FMTTYPE=image/png:https://www.spd-fraktion-sh.de/wp-content/uploads/sites/479/2019/04/garbage-2369821-1.png
GEO:54.3350991;10.1513017
X-APPLE-STRUCTURED-LOCATION;VALUE=URI;X-ADDRESS=SPD-Fraktion Schleswig-Holstein Düsternbrooker Weg 70 Kiel Schleswig-Holstein 24105 Deutschland;X-APPLE-RADIUS=500;X-TITLE=Düsternbrooker Weg 70:geo:10.1513017,54.3350991
END:VEVENT
BEGIN:VEVENT
DTSTART;TZID=Europe/Berlin:20190617T183000
DTEND;TZID=Europe/Berlin:20190617T210000
DTSTAMP:20220515T053747
CREATED:20190529T093905Z
LAST-MODIFIED:20190529T094613Z
UID:3549-1560796200-1560805200@www.spd-fraktion-sh.de
SUMMARY:Aktionswoche Hotel- und Gaststättengewerbe
DESCRIPTION:In der Aktionswoche Hotel- und Gaststättengewerbe haben die Abgeordneten der SPD-Landtagsfraktion Praktika in verschiedenen Betrieben absolviert\, um praxisnahe Einblicke in die unterschiedlichen Bereiche zu bekommen und besser zu verstehen\, vor welchen Herausforderungen das Gastgewerbe steht.  \n„Für uns ist ganz klar\, dass die Gastronomie und der Tourismusbereich für Arbeitnehmerinnen und Arbeitnehmer attraktiver werden muss.“ \nThomas Hölck \n\nWährend die touristische Nachfrage im Norden immer weiter steigt und regelmäßig Rekordzahlen erreicht werden\, wird der Fachkräftemangel immer größer. Viele gastronomische Unternehmen beklagen einen akuten Mangel an Fachkräften. Immer mehr Stellen können nicht mehr besetzt werden und wenn nicht nachgesteuert wird\, könnten dem Gastgewerbe im Jahr 2030 etwa 3500 ArbeitnehmerInnen fehlen.  \nDabei bieten sich im Hotel- und Gaststättengewerbe vielfältige Job- und Ausbildungschancen\, und ohne qualifizierte Fachkräfte und gute Arbeits- und Ausbildungsbedingungen bleibt die Qualität auf der Strecke. Für uns ist ganz klar\, dass die Gastronomie und der Tourismusbereich für Arbeitnehmerinnen und Arbeitnehmer attraktiver werden muss. \nWas können wir tun\, um das Erlernen eines Berufs im Hotel- und Gaststättengewerbe attraktiver zu machen? Und was ist die Aufgabe der Politik dabei? Wir laden Sie herzlich ein\, mit uns über diese Fragen zur Zukunft des Gastgewerbes zu diskutieren und freuen uns auf Ihre Beiträge. \n\n  \n⏰Ablauf\n👉18:30 Uhr\n🥑🥨🥕 Come together mit Imbiss \n  \n👉19.00 Uhr Begrüßung\nRalf Stegner \n\n  \n👉Einführung\nThomas Hölck \n\n  \n👉Praktikumsimpressionen\n  \n👉Impulsvorträge – „Was macht das Gastgewerbe attraktiv?“\n\nAxel Strehl\, Präsident des DEHOGA Schleswig-Holstein\nChristoph Schink\, Referatsleiter Gastgewerbe der Gewerkschaft Nahrung-Genuss-Gaststätten\nChristine Teegen\, Auszubildende als Hotelfachfrau Hotel Am Schloss Ahrensburg\nPhilipp Evers\, Koch Hotel Windspiel Grömitz\nSerpil Midyatli\, MdL Stellvertretende Fraktionsvorsitzende und Landesvorsitzende\nder SPD Schleswig-Holstein\n\n👉Diskussion\n👉20:30 Uhr Schlusswort\nSerpil Midyatli \n\n  \nIm Anschluss: Get together \n  \n  \n❗️❗️ Hinweis:\nWir fotografieren während der Veranstaltung zum Zwecke der Veröffentlichung auf unserer Webseite und/oder unseren Social-Media-Kanälen. Mit Ihrer Teilnahme an der Veranstaltung erklären Sie sich mit der Veröffentlichung von Fotos einverstanden\, auf denen auch Sie abgebildet sind. Wenn Sie das nicht möchten\, teilen Sie das bitte unserem Fotografen oder unseren Mitarbeitern mit.
URL:https://www.spd-fraktion-sh.de/termin/aktionswoche-hotel-und-gaststaettengewerbe/
LOCATION:SPD-Fraktion Schleswig-Holstein\, Düsternbrooker Weg 70\, Kiel\, Schleswig-Holstein\, 24105\, Deutschland
ATTACH;FMTTYPE=image/jpeg:https://www.spd-fraktion-sh.de/wp-content/uploads/sites/479/2019/05/kitchen-731351.jpg
GEO:54.3350991;10.1513017
X-APPLE-STRUCTURED-LOCATION;VALUE=URI;X-ADDRESS=SPD-Fraktion Schleswig-Holstein Düsternbrooker Weg 70 Kiel Schleswig-Holstein 24105 Deutschland;X-APPLE-RADIUS=500;X-TITLE=Düsternbrooker Weg 70:geo:10.1513017,54.3350991
END:VEVENT
END:VCALENDAR