BEGIN:VCALENDAR
VERSION:2.0
PRODID:-//SPD Landtagsfraktion - ECPv5.14.1//NONSGML v1.0//EN
CALSCALE:GREGORIAN
METHOD:PUBLISH
X-WR-CALNAME:SPD Landtagsfraktion
X-ORIGINAL-URL:https://www.spd-fraktion-sh.de
X-WR-CALDESC:Veranstaltungen für SPD Landtagsfraktion
REFRESH-INTERVAL;VALUE=DURATION:PT1H
X-Robots-Tag:noindex
X-PUBLISHED-TTL:PT1H
BEGIN:VTIMEZONE
TZID:Europe/Berlin
BEGIN:DAYLIGHT
TZOFFSETFROM:+0100
TZOFFSETTO:+0200
TZNAME:CEST
DTSTART:20200329T010000
END:DAYLIGHT
BEGIN:STANDARD
TZOFFSETFROM:+0200
TZOFFSETTO:+0100
TZNAME:CET
DTSTART:20201025T010000
END:STANDARD
END:VTIMEZONE
BEGIN:VEVENT
DTSTART;TZID=Europe/Berlin:20201021T190000
DTEND;TZID=Europe/Berlin:20201021T210000
DTSTAMP:20220515T053746
CREATED:20200924T153418Z
LAST-MODIFIED:20200924T154349Z
UID:6357-1603306800-1603314000@www.spd-fraktion-sh.de
SUMMARY:Das neue Polizeigesetz – ein Gewinn für die Gefahrenabwehr?
DESCRIPTION:„Ein handlungsfähiger Rechtsstaat braucht eine funktionierende Polizei.“ Kathrin Bockey \nDie Aufgaben der schleswig-holsteinischen Polizei sind in den letzten Jahren enorm gewachsen: die Zunahme von Kriminalität im Netz\, neue technische Möglichkeiten und veränderte Gefahrensituationen. Um diesen Herausforderungen zu begegnen\, wird das Polizeigesetz angepasst. Wie müssen die gesetzlichen Rahmenbedingungen aussehen\, um Polizist:innen Handlungssicherheit zu bieten und gleichzeitig die persönlichen Freiheitsrechte unserer Bürger:innen zu wahren? Den Auftakt macht Hamburgs Innensenator Andy Grote\, der die Unterschiede im Schleswig-Holsteinischen Entwurf zum Hamburger Polizeigesetz kurz gegenüber stellt. Im Anschluss folgt die Diskussion unter der Moderation von Carsten Kock. \n\n\n📃 Ablauf \n➡️ 18:30 Einlass \n➡️19:00 Uhr Begrüßung \n👉 Kathrin Bockey\, polizeipolitische Sprecherin der SPD-Fraktion \n\n➡️19:05 Uhr Einführung in das Thema \n➡️19.15 Uhr Podiumsdiskussion \n👉 Andy Grote\, Innensenator der Freien und Hansestadt Hamburg\n👉 Torsten Jäger\, Landesvorsitzender der GdP Schleswig-Holstein\n👉 Marit Hansen\, Landesbeauftragte für Datenschutz Schleswig-Holstein\n👉 Stephan Nietz\, Stellv. Landesvorsitzender des BDK Schleswig-Holstein \n👉Der Abend wird von Carsten Kock (R.SH) moderiert. \n➡️20.00 Uhr Fragen aus dem Publikum \n➡️20:30 Uhr Ende \n  \nEinladung als PDF
URL:https://www.spd-fraktion-sh.de/termin/das-neue-polizeigesetz-ein-gewinn-fuer-die-gefahrenabwehr/
LOCATION:Wunderino Arena\, Europaplatz 1 - Raum Dänemark\, Kiel\, Schleswig-Holstein\, 24103\, Deutschland
ATTACH;FMTTYPE=image/jpeg:https://www.spd-fraktion-sh.de/wp-content/uploads/sites/479/2019/05/police-974410_1920.jpg
GEO:54.320921;10.1315144
X-APPLE-STRUCTURED-LOCATION;VALUE=URI;X-ADDRESS=Wunderino Arena Europaplatz 1 - Raum Dänemark Kiel Schleswig-Holstein 24103 Deutschland;X-APPLE-RADIUS=500;X-TITLE=Europaplatz 1 - Raum Dänemark:geo:10.1315144,54.320921
END:VEVENT
END:VCALENDAR